BEGIN:VCALENDAR
VERSION:2.0
PRODID:-//Hannibal-LaGrange University - ECPv6.15.20//NONSGML v1.0//EN
CALSCALE:GREGORIAN
METHOD:PUBLISH
X-WR-CALNAME:Hannibal-LaGrange University
X-ORIGINAL-URL:https://www.hlg.edu
X-WR-CALDESC:Events for Hannibal-LaGrange University
REFRESH-INTERVAL;VALUE=DURATION:PT1H
X-Robots-Tag:noindex
X-PUBLISHED-TTL:PT1H
BEGIN:VTIMEZONE
TZID:America/Chicago
BEGIN:DAYLIGHT
TZOFFSETFROM:-0600
TZOFFSETTO:-0500
TZNAME:CDT
DTSTART:20210314T080000
END:DAYLIGHT
BEGIN:STANDARD
TZOFFSETFROM:-0500
TZOFFSETTO:-0600
TZNAME:CST
DTSTART:20211107T070000
END:STANDARD
BEGIN:DAYLIGHT
TZOFFSETFROM:-0600
TZOFFSETTO:-0500
TZNAME:CDT
DTSTART:20220313T080000
END:DAYLIGHT
BEGIN:STANDARD
TZOFFSETFROM:-0500
TZOFFSETTO:-0600
TZNAME:CST
DTSTART:20221106T070000
END:STANDARD
BEGIN:DAYLIGHT
TZOFFSETFROM:-0600
TZOFFSETTO:-0500
TZNAME:CDT
DTSTART:20230312T080000
END:DAYLIGHT
BEGIN:STANDARD
TZOFFSETFROM:-0500
TZOFFSETTO:-0600
TZNAME:CST
DTSTART:20231105T070000
END:STANDARD
BEGIN:DAYLIGHT
TZOFFSETFROM:-0600
TZOFFSETTO:-0500
TZNAME:CDT
DTSTART:20240310T080000
END:DAYLIGHT
BEGIN:STANDARD
TZOFFSETFROM:-0500
TZOFFSETTO:-0600
TZNAME:CST
DTSTART:20241103T070000
END:STANDARD
END:VTIMEZONE
BEGIN:VEVENT
DTSTART;TZID=America/Chicago:20230323T190000
DTEND;TZID=America/Chicago:20230323T200000
DTSTAMP:20260421T002558
CREATED:20230303T151859Z
LAST-MODIFIED:20230303T151859Z
UID:10001335-1679598000-1679601600@www.hlg.edu
SUMMARY:Free Society Series - Dr. Tawni Ferrarini
DESCRIPTION:Hannibal-LaGrange University will welcome Dr. Tawni Ferrarini as guest speaker on Thursday\, March 23 at 7:00 p.m. in the L.A. Foster Student Center on campus. \nThis event is part of the Free Society Speaker Series that HLGU hosts in partnership with the Moorman Foundation. \nFerrarini specializes in expanding the reach of sound economic education regionally\, nationally\, and internationally. Since 2017\, Ferrarini has been the Robert W. Plaster Professor of Economic Education at Lindenwood University. She is a member of the economics faculty in the Plaster School of Business and Entrepreneurship\, while also serving as a senior research fellow in the Hammond Institute for Free Enterprise. The mission of the Hammond Institute parallels free society principles promoted by Free Society programming at HLGU. \nFerrarini works with the School of Education\, creating training programs for educators to teach economics and financial literacy. In addition to a plethora of accolades\, Ferrarini has also co-authored several books\, including Common Sense Economics: What Everyone Should Know About Wealth and Prosperity\, which has been used in business classes at Hannibal-LaGrange University. \n“Dr. Ferrarini’s visit to campus is an awesome opportunity for HLGU students to be immersed in free society principles presented by an esteemed professor\,” says Dr. Jonathan Walker\, Assistant Professor of Business Education at HLGU. “Dr. Ferrarini’s professional expertise and abundance of relevant experience in education and economics makes her an ideal Free Society speaker.” \nDuring her visit to HLGU\, Dr. Ferrarini will discuss “Markets vs. Government: Why Differences Matter.” The event is free and open to the public. \nFor more information about the Free Society Speaker Series at HLGU\, email FreeSociety@hlg.edu.
URL:https://www.hlg.edu/event/free-society-series-dr-tawni-ferrarini/
LOCATION:The Loft\, 2800 Palmyra Road\, HANNIBAL\, MO\, 63401
CATEGORIES:Free Society
END:VEVENT
BEGIN:VEVENT
DTSTART;TZID=America/Chicago:20220418T190000
DTEND;TZID=America/Chicago:20220418T190000
DTSTAMP:20260421T002558
CREATED:20220112T202053Z
LAST-MODIFIED:20220112T202053Z
UID:10001246-1650308400-1650308400@www.hlg.edu
SUMMARY:Free Society Special Lecture - Hannah Stolze\, Wisdom Based Business
DESCRIPTION:
URL:https://www.hlg.edu/event/free-society-special-lecture-hannah-stolze-wisdom-based-business/
LOCATION:Roland Fine Arts Center\, 2800 Palmyra Road\, Hannibal\, 63401\, United States
CATEGORIES:Free Society
GEO:39.727043;-91.391852
X-APPLE-STRUCTURED-LOCATION;VALUE=URI;X-ADDRESS=Roland Fine Arts Center 2800 Palmyra Road Hannibal 63401 United States;X-APPLE-RADIUS=500;X-TITLE=2800 Palmyra Road:geo:-91.391852,39.727043
END:VEVENT
BEGIN:VEVENT
DTSTART;TZID=America/Chicago:20220331T190000
DTEND;TZID=America/Chicago:20220331T210000
DTSTAMP:20260421T002558
CREATED:20220128T165923Z
LAST-MODIFIED:20220128T165923Z
UID:10001270-1648753200-1648760400@www.hlg.edu
SUMMARY:Free Society Movie Night
DESCRIPTION:
URL:https://www.hlg.edu/event/free-society-movie-night/
LOCATION:Page Dining Room
CATEGORIES:Free Society
END:VEVENT
BEGIN:VEVENT
DTSTART;TZID=America/Chicago:20220303T190000
DTEND;TZID=America/Chicago:20220303T200000
DTSTAMP:20260421T002558
CREATED:20220215T195034Z
LAST-MODIFIED:20220215T195034Z
UID:10001271-1646334000-1646337600@www.hlg.edu
SUMMARY:Free Society Speaker Event: Mr. Scott Hall and Ms. Kayla Meier
DESCRIPTION:
URL:https://www.hlg.edu/event/free-society-speaker-event-mr-scott-hall-and-ms-kayla-meier/
LOCATION:Page Dining Room
CATEGORIES:Free Society
END:VEVENT
BEGIN:VEVENT
DTSTART;TZID=America/Chicago:20220222T190000
DTEND;TZID=America/Chicago:20220222T190000
DTSTAMP:20260421T002558
CREATED:20220112T195717Z
LAST-MODIFIED:20220112T201059Z
UID:10001245-1645556400-1645556400@www.hlg.edu
SUMMARY:Free Society Special Lecture - Rachel Ferguson\, Concordia University Chicago
DESCRIPTION:
URL:https://www.hlg.edu/event/free-society-special-lecture-rachel-ferguson-concordia-university-chicago/
LOCATION:Roland Fine Arts Center\, 2800 Palmyra Road\, Hannibal\, 63401\, United States
CATEGORIES:Free Society
ORGANIZER;CN="Scott Hall":MAILTO:scott.hall@hlg.edu
GEO:39.727043;-91.391852
X-APPLE-STRUCTURED-LOCATION;VALUE=URI;X-ADDRESS=Roland Fine Arts Center 2800 Palmyra Road Hannibal 63401 United States;X-APPLE-RADIUS=500;X-TITLE=2800 Palmyra Road:geo:-91.391852,39.727043
END:VEVENT
END:VCALENDAR