BEGIN:VCALENDAR
VERSION:2.0
PRODID:-//Hannibal-LaGrange University - ECPv6.15.20//NONSGML v1.0//EN
CALSCALE:GREGORIAN
METHOD:PUBLISH
X-WR-CALNAME:Hannibal-LaGrange University
X-ORIGINAL-URL:https://www.hlg.edu
X-WR-CALDESC:Events for Hannibal-LaGrange University
REFRESH-INTERVAL;VALUE=DURATION:PT1H
X-Robots-Tag:noindex
X-PUBLISHED-TTL:PT1H
BEGIN:VTIMEZONE
TZID:America/Chicago
BEGIN:DAYLIGHT
TZOFFSETFROM:-0600
TZOFFSETTO:-0500
TZNAME:CDT
DTSTART:20160313T080000
END:DAYLIGHT
BEGIN:STANDARD
TZOFFSETFROM:-0500
TZOFFSETTO:-0600
TZNAME:CST
DTSTART:20161106T070000
END:STANDARD
BEGIN:DAYLIGHT
TZOFFSETFROM:-0600
TZOFFSETTO:-0500
TZNAME:CDT
DTSTART:20170312T080000
END:DAYLIGHT
BEGIN:STANDARD
TZOFFSETFROM:-0500
TZOFFSETTO:-0600
TZNAME:CST
DTSTART:20171105T070000
END:STANDARD
BEGIN:DAYLIGHT
TZOFFSETFROM:-0600
TZOFFSETTO:-0500
TZNAME:CDT
DTSTART:20180311T080000
END:DAYLIGHT
BEGIN:STANDARD
TZOFFSETFROM:-0500
TZOFFSETTO:-0600
TZNAME:CST
DTSTART:20181104T070000
END:STANDARD
END:VTIMEZONE
BEGIN:VEVENT
DTSTART;TZID=America/Chicago:20170319T105500
DTEND;TZID=America/Chicago:20170319T120000
DTSTAMP:20260421T161107
CREATED:20170111T211550Z
LAST-MODIFIED:20170111T211550Z
UID:10000713-1489920900-1489924800@www.hlg.edu
SUMMARY:Praise Song Performance
DESCRIPTION:
URL:https://www.hlg.edu/event/praise-song-performance-3/
LOCATION:South County Baptist Church\, 12995 Tesson Ferry Rd\, St. Louis\, MO\, 63128\, United States
CATEGORIES:Ministry Teams,Praise Song
ATTACH;FMTTYPE=image/jpeg:https://www.hlg.edu/wp-content/uploads/2017/01/PraiseSong.jpg
ORGANIZER;CN="John L. Francis":MAILTO:john.francis@hlg.edu
GEO:38.4960251;-90.3831781
X-APPLE-STRUCTURED-LOCATION;VALUE=URI;X-ADDRESS=South County Baptist Church 12995 Tesson Ferry Rd St. Louis MO 63128 United States;X-APPLE-RADIUS=500;X-TITLE=12995 Tesson Ferry Rd:geo:-90.3831781,38.4960251
END:VEVENT
END:VCALENDAR