BEGIN:VCALENDAR
VERSION:2.0
PRODID:-//Hannibal-LaGrange University - ECPv6.15.20//NONSGML v1.0//EN
CALSCALE:GREGORIAN
METHOD:PUBLISH
X-WR-CALNAME:Hannibal-LaGrange University
X-ORIGINAL-URL:https://www.hlg.edu
X-WR-CALDESC:Events for Hannibal-LaGrange University
REFRESH-INTERVAL;VALUE=DURATION:PT1H
X-Robots-Tag:noindex
X-PUBLISHED-TTL:PT1H
BEGIN:VTIMEZONE
TZID:America/Chicago
BEGIN:DAYLIGHT
TZOFFSETFROM:-0600
TZOFFSETTO:-0500
TZNAME:CDT
DTSTART:20250309T080000
END:DAYLIGHT
BEGIN:STANDARD
TZOFFSETFROM:-0500
TZOFFSETTO:-0600
TZNAME:CST
DTSTART:20251102T070000
END:STANDARD
BEGIN:DAYLIGHT
TZOFFSETFROM:-0600
TZOFFSETTO:-0500
TZNAME:CDT
DTSTART:20260308T080000
END:DAYLIGHT
BEGIN:STANDARD
TZOFFSETFROM:-0500
TZOFFSETTO:-0600
TZNAME:CST
DTSTART:20261101T070000
END:STANDARD
BEGIN:DAYLIGHT
TZOFFSETFROM:-0600
TZOFFSETTO:-0500
TZNAME:CDT
DTSTART:20270314T080000
END:DAYLIGHT
BEGIN:STANDARD
TZOFFSETFROM:-0500
TZOFFSETTO:-0600
TZNAME:CST
DTSTART:20271107T070000
END:STANDARD
END:VTIMEZONE
BEGIN:VEVENT
DTSTART;VALUE=DATE:20260511
DTEND;VALUE=DATE:20260512
DTSTAMP:20260421T202846
CREATED:20251007T133425Z
LAST-MODIFIED:20251007T133425Z
UID:10003302-1778457600-1778543999@www.hlg.edu
SUMMARY:Semester Begins; Term B (8-week) Online and Graduate Classes begi
DESCRIPTION:
URL:https://www.hlg.edu/event/semester-begins-term-b-8-week-online-and-graduate-classes-begi/
END:VEVENT
BEGIN:VEVENT
DTSTART;TZID=America/Chicago:20260511T113000
DTEND;TZID=America/Chicago:20260511T130000
DTSTAMP:20260421T202846
CREATED:20260416T142820Z
LAST-MODIFIED:20260416T142820Z
UID:10003341-1778499000-1778504400@www.hlg.edu
SUMMARY:Alumni & Friends Lunch in Jefferson City\, MO
DESCRIPTION:You’re invited to our upcoming Alumni & Friends Luncheon in Jefferson City! We hope you’ll join us for great food\, fellowship\, and updates from Hannibal-LaGrange University.\n\nEvent DetailsMonday\, May 11\, 2026 @ 11:30 a.m. Madison’s Cafe\, 216 Madison St\, Jefferson City\, MO$25 per person – Includes Salad\, Italian Entree\, & Drink\n\nDr. Matz\, Dr. Carty\, and I will be there to share exciting news from campus and ways to stay connected with HLGU.\n\nPlease RSVP by May 7 to let us know you’ll be joining us.\nVisit www.hlg.edu/giving to pay online. Type “JC Lunch” in the designation line. You may also contact the IA office at giving@hlg.edu or (573) 629-3124.\n\nWe look forward to seeing you soon!
URL:https://www.hlg.edu/event/alumni-friends-lunch-in-jefferson-city-mo/
CATEGORIES:Alumni,Public
ORGANIZER;CN="Lauren Youse":MAILTO:lauren.youse@hlg.edu
END:VEVENT
BEGIN:VEVENT
DTSTART;VALUE=DATE:20260515
DTEND;VALUE=DATE:20260516
DTSTAMP:20260421T202846
CREATED:20251007T133512Z
LAST-MODIFIED:20251007T133512Z
UID:10003303-1778803200-1778889599@www.hlg.edu
SUMMARY:Last day to add/drop a Term B course
DESCRIPTION:
URL:https://www.hlg.edu/event/last-day-to-add-drop-a-term-b-course-6/
END:VEVENT
BEGIN:VEVENT
DTSTART;VALUE=DATE:20260612
DTEND;VALUE=DATE:20260613
DTSTAMP:20260421T202846
CREATED:20251007T140701Z
LAST-MODIFIED:20251007T140701Z
UID:10003304-1781222400-1781308799@www.hlg.edu
SUMMARY:Last day to drop a Term B course with a W grade
DESCRIPTION:
URL:https://www.hlg.edu/event/last-day-to-drop-a-term-b-course-with-a-w-grade-6/
CATEGORIES:Academics
END:VEVENT
END:VCALENDAR