BEGIN:VCALENDAR
VERSION:2.0
PRODID:-//Hannibal-LaGrange University - ECPv6.15.20//NONSGML v1.0//EN
CALSCALE:GREGORIAN
METHOD:PUBLISH
X-ORIGINAL-URL:https://www.hlg.edu
X-WR-CALDESC:Events for Hannibal-LaGrange University
REFRESH-INTERVAL;VALUE=DURATION:PT1H
X-Robots-Tag:noindex
X-PUBLISHED-TTL:PT1H
BEGIN:VTIMEZONE
TZID:America/Chicago
BEGIN:DAYLIGHT
TZOFFSETFROM:-0600
TZOFFSETTO:-0500
TZNAME:CDT
DTSTART:20160313T080000
END:DAYLIGHT
BEGIN:STANDARD
TZOFFSETFROM:-0500
TZOFFSETTO:-0600
TZNAME:CST
DTSTART:20161106T070000
END:STANDARD
BEGIN:DAYLIGHT
TZOFFSETFROM:-0600
TZOFFSETTO:-0500
TZNAME:CDT
DTSTART:20170312T080000
END:DAYLIGHT
BEGIN:STANDARD
TZOFFSETFROM:-0500
TZOFFSETTO:-0600
TZNAME:CST
DTSTART:20171105T070000
END:STANDARD
BEGIN:DAYLIGHT
TZOFFSETFROM:-0600
TZOFFSETTO:-0500
TZNAME:CDT
DTSTART:20180311T080000
END:DAYLIGHT
BEGIN:STANDARD
TZOFFSETFROM:-0500
TZOFFSETTO:-0600
TZNAME:CST
DTSTART:20181104T070000
END:STANDARD
END:VTIMEZONE
BEGIN:VEVENT
DTSTART;TZID=America/Chicago:20171006T180000
DTEND;TZID=America/Chicago:20171006T200000
DTSTAMP:20260419T221508
CREATED:20170720T163216Z
LAST-MODIFIED:20170921T193309Z
UID:10000793-1507312800-1507320000@www.hlg.edu
SUMMARY:Art Exhibit Opening - Alumni Artists Neil Sneed '12 and Casi Gray '08
DESCRIPTION:An art exhibit opening reception will be held featuring the artwork of HLGU alumni Neil Sneed ’12 and Casi Gray ’08. The display will be open September 25 to October 13.
URL:https://www.hlg.edu/event/art-exhibit-opening-alumni-artist/
LOCATION:Hagerman Art Gallery
CATEGORIES:Fine Arts
ATTACH;FMTTYPE=image/jpeg:https://www.hlg.edu/wp-content/uploads/2017/01/IMG_3847small.jpg
ORGANIZER;CN="Michael Chlebanowski":MAILTO:mchlebanowski@hlg.edu
END:VEVENT
END:VCALENDAR