BEGIN:VCALENDAR
VERSION:2.0
PRODID:-//Hannibal-LaGrange University - ECPv6.15.20//NONSGML v1.0//EN
CALSCALE:GREGORIAN
METHOD:PUBLISH
X-ORIGINAL-URL:https://www.hlg.edu
X-WR-CALDESC:Events for Hannibal-LaGrange University
REFRESH-INTERVAL;VALUE=DURATION:PT1H
X-Robots-Tag:noindex
X-PUBLISHED-TTL:PT1H
BEGIN:VTIMEZONE
TZID:America/Chicago
BEGIN:DAYLIGHT
TZOFFSETFROM:-0600
TZOFFSETTO:-0500
TZNAME:CDT
DTSTART:20170312T080000
END:DAYLIGHT
BEGIN:STANDARD
TZOFFSETFROM:-0500
TZOFFSETTO:-0600
TZNAME:CST
DTSTART:20171105T070000
END:STANDARD
BEGIN:DAYLIGHT
TZOFFSETFROM:-0600
TZOFFSETTO:-0500
TZNAME:CDT
DTSTART:20180311T080000
END:DAYLIGHT
BEGIN:STANDARD
TZOFFSETFROM:-0500
TZOFFSETTO:-0600
TZNAME:CST
DTSTART:20181104T070000
END:STANDARD
BEGIN:DAYLIGHT
TZOFFSETFROM:-0600
TZOFFSETTO:-0500
TZNAME:CDT
DTSTART:20190310T080000
END:DAYLIGHT
BEGIN:STANDARD
TZOFFSETFROM:-0500
TZOFFSETTO:-0600
TZNAME:CST
DTSTART:20191103T070000
END:STANDARD
END:VTIMEZONE
BEGIN:VEVENT
DTSTART;VALUE=DATE:20180402
DTEND;VALUE=DATE:20180407
DTSTAMP:20260422T201930
CREATED:20170720T185400Z
LAST-MODIFIED:20170720T185400Z
UID:10000799-1522627200-1523059199@www.hlg.edu
SUMMARY:28th Annual High School Art Exhibit
DESCRIPTION:Pieces from art students at local high schools will be on display.
URL:https://www.hlg.edu/event/28th-annual-high-school-art-exhibit/
LOCATION:Hagerman Art Gallery
CATEGORIES:Fine Arts
ATTACH;FMTTYPE=image/jpeg:https://www.hlg.edu/wp-content/uploads/2017/01/IMG_3847small.jpg
ORGANIZER;CN="Michael Chlebanowski":MAILTO:mchlebanowski@hlg.edu
END:VEVENT
BEGIN:VEVENT
DTSTART;VALUE=DATE:20180409
DTEND;VALUE=DATE:20180414
DTSTAMP:20260422T201930
CREATED:20170720T185743Z
LAST-MODIFIED:20170720T185743Z
UID:10000800-1523232000-1523663999@www.hlg.edu
SUMMARY:Senior Art Exhibit - Hannah Mundle
DESCRIPTION:The artwork of HLGU Senior Hannah Mundle will be on display.
URL:https://www.hlg.edu/event/senior-art-exhibit-hannah-mundle/
LOCATION:Hagerman Art Gallery
CATEGORIES:Fine Arts
ATTACH;FMTTYPE=image/jpeg:https://www.hlg.edu/wp-content/uploads/2017/01/IMG_3847small.jpg
ORGANIZER;CN="Michael Chlebanowski":MAILTO:mchlebanowski@hlg.edu
END:VEVENT
BEGIN:VEVENT
DTSTART;TZID=America/Chicago:20180420T180000
DTEND;TZID=America/Chicago:20180420T180000
DTSTAMP:20260422T201930
CREATED:20170720T190037Z
LAST-MODIFIED:20180118T200407Z
UID:10000801-1524247200-1524247200@www.hlg.edu
SUMMARY:Senior Art Exhibit Opening - Sierra Roth and Kyla Swanson
DESCRIPTION:Join us on opening night at 6 pm in the Hagerman Art Gallery! \nThe artwork of HLGU seniors Sierra Roth and Kyla Swanson will be on display April 16-20.
URL:https://www.hlg.edu/event/senior-art-exhibit-sierra-roth-elizabeth-waterman/
LOCATION:Hagerman Art Gallery
CATEGORIES:Fine Arts,Public,Student Life
ATTACH;FMTTYPE=image/jpeg:https://www.hlg.edu/wp-content/uploads/2017/01/IMG_3847small.jpg
ORGANIZER;CN="Michael Chlebanowski":MAILTO:mchlebanowski@hlg.edu
END:VEVENT
BEGIN:VEVENT
DTSTART;VALUE=DATE:20180423
DTEND;VALUE=DATE:20180428
DTSTAMP:20260422T201930
CREATED:20170720T190304Z
LAST-MODIFIED:20170720T190304Z
UID:10000802-1524441600-1524873599@www.hlg.edu
SUMMARY:HLGU Student Art Exhibit
DESCRIPTION:Pieces from HLGU art students will be on display.
URL:https://www.hlg.edu/event/hlgu-student-art-exhibit/
LOCATION:Hagerman Art Gallery
CATEGORIES:Fine Arts
ATTACH;FMTTYPE=image/jpeg:https://www.hlg.edu/wp-content/uploads/2017/01/IMG_3847small.jpg
ORGANIZER;CN="Michael Chlebanowski":MAILTO:mchlebanowski@hlg.edu
END:VEVENT
END:VCALENDAR