BEGIN:VCALENDAR
VERSION:2.0
PRODID:-//Hannibal-LaGrange University - ECPv6.15.20//NONSGML v1.0//EN
CALSCALE:GREGORIAN
METHOD:PUBLISH
X-ORIGINAL-URL:https://www.hlg.edu
X-WR-CALDESC:Events for Hannibal-LaGrange University
REFRESH-INTERVAL;VALUE=DURATION:PT1H
X-Robots-Tag:noindex
X-PUBLISHED-TTL:PT1H
BEGIN:VTIMEZONE
TZID:America/Chicago
BEGIN:DAYLIGHT
TZOFFSETFROM:-0600
TZOFFSETTO:-0500
TZNAME:CDT
DTSTART:20220313T080000
END:DAYLIGHT
BEGIN:STANDARD
TZOFFSETFROM:-0500
TZOFFSETTO:-0600
TZNAME:CST
DTSTART:20221106T070000
END:STANDARD
BEGIN:DAYLIGHT
TZOFFSETFROM:-0600
TZOFFSETTO:-0500
TZNAME:CDT
DTSTART:20230312T080000
END:DAYLIGHT
BEGIN:STANDARD
TZOFFSETFROM:-0500
TZOFFSETTO:-0600
TZNAME:CST
DTSTART:20231105T070000
END:STANDARD
BEGIN:DAYLIGHT
TZOFFSETFROM:-0600
TZOFFSETTO:-0500
TZNAME:CDT
DTSTART:20240310T080000
END:DAYLIGHT
BEGIN:STANDARD
TZOFFSETFROM:-0500
TZOFFSETTO:-0600
TZNAME:CST
DTSTART:20241103T070000
END:STANDARD
END:VTIMEZONE
BEGIN:VEVENT
DTSTART;TZID=America/Chicago:20230929T120000
DTEND;TZID=America/Chicago:20230929T170000
DTSTAMP:20260420T044150
CREATED:20230303T154838Z
LAST-MODIFIED:20230802T192023Z
UID:10001348-1695988800-1696006800@www.hlg.edu
SUMMARY:Alumni & Friends Golf Classic Fundraiser
DESCRIPTION:HLGU Annual Alumni & Friends Golf Classic Fundraiser \nFriday\, September 29\, 2023 at Norwoods Golf Club in Hannibal\, MO \n4 person Scramble with longest drive\, closest to the pin\, and longest putt contests. Prizes will be awarded for each skill contest\, along with the winning team receiving an award. \n$300 team of 4 registration fee – includes green fees\, carts\, & BBQ lunch \n  \nNoon – Golf registration & BBQ Lunch \n1 pm – Shotgun Start \n  \nRegister by September 22. \nSponsorships available! \nContact Lauren Youse for more information. \nlauren.youse@hlg.edu \n(573) 629-3126 \n  \nDownload the registration form
URL:https://www.hlg.edu/event/alumni-friends-golf-classic-2/
LOCATION:MO
CATEGORIES:Alumni,Public
ATTACH;FMTTYPE=image/jpeg:https://www.hlg.edu/wp-content/uploads/2023/03/Cover-photo-2023.jpg
END:VEVENT
END:VCALENDAR